BEGIN:VCALENDAR
VERSION:2.0
PRODID:-//Empowered Living - ECPv4.9.7//NONSGML v1.0//EN
CALSCALE:GREGORIAN
METHOD:PUBLISH
X-WR-CALNAME:Empowered Living
X-ORIGINAL-URL:https://jaynebanful.com
X-WR-CALDESC:Events for Empowered Living
BEGIN:VTIMEZONE
TZID:"UTC"
BEGIN:STANDARD
TZOFFSETFROM:+0000
TZOFFSETTO:+0000
TZNAME:UTC
DTSTART:20240101T000000
END:STANDARD
END:VTIMEZONE
BEGIN:VEVENT
DTSTART;VALUE=DATE:20241010
DTEND;VALUE=DATE:20241014
DTSTAMP:20260422T114000
CREATED:20240417T163549Z
LAST-MODIFIED:20240417T163549Z
UID:2119-1728518400-1728863999@jaynebanful.com
SUMMARY:Emotional Health Boot Camp
DESCRIPTION: \n
URL:https://jaynebanful.com/event/emotional-health-boot-camp/
LOCATION:spain\, Spain
END:VEVENT
END:VCALENDAR