BEGIN:VCALENDAR
VERSION:2.0
PRODID:-//Empowered Living - ECPv4.9.7//NONSGML v1.0//EN
CALSCALE:GREGORIAN
METHOD:PUBLISH
X-WR-CALNAME:Empowered Living
X-ORIGINAL-URL:https://jaynebanful.com
X-WR-CALDESC:Events for Empowered Living
BEGIN:VTIMEZONE
TZID:"UTC"
BEGIN:STANDARD
TZOFFSETFROM:+0000
TZOFFSETTO:+0000
TZNAME:UTC
DTSTART:20230101T000000
END:STANDARD
END:VTIMEZONE
BEGIN:VEVENT
DTSTART;TZID="UTC":20230909T100000
DTEND;TZID="UTC":20230909T153000
DTSTAMP:20260422T083533
CREATED:20230825T145619Z
LAST-MODIFIED:20230825T145619Z
UID:2041-1694253600-1694273400@jaynebanful.com
SUMMARY:Ladies Meeting
DESCRIPTION:True Light Worship Centre \nWashington\, USA \nDate: Saturday 9th September 2023 \nTime: 10am \n
URL:https://jaynebanful.com/event/ladies-meeting/
END:VEVENT
END:VCALENDAR