BEGIN:VCALENDAR
VERSION:2.0
PRODID:-//Empowered Living - ECPv4.9.7//NONSGML v1.0//EN
CALSCALE:GREGORIAN
METHOD:PUBLISH
X-WR-CALNAME:Empowered Living
X-ORIGINAL-URL:https://jaynebanful.com
X-WR-CALDESC:Events for Empowered Living
BEGIN:VTIMEZONE
TZID:"UTC"
BEGIN:STANDARD
TZOFFSETFROM:+0000
TZOFFSETTO:+0000
TZNAME:UTC
DTSTART:20240101T000000
END:STANDARD
END:VTIMEZONE
BEGIN:VEVENT
DTSTART;TZID="UTC":20240629T100000
DTEND;TZID="UTC":20240629T130000
DTSTAMP:20260422T101133
CREATED:20240330T142055Z
LAST-MODIFIED:20240618T162200Z
UID:2115-1719655200-1719666000@jaynebanful.com
SUMMARY:Living Emotionally Healthy Masterclass
DESCRIPTION:Purchase here: https://jaynebanful.com/product/living-emotionally-healthy-masterclass/  \n
URL:https://jaynebanful.com/event/living-emotionally-healthy-masterclass/
END:VEVENT
END:VCALENDAR