BEGIN:VCALENDAR
VERSION:2.0
PRODID:-//Empowered Living - ECPv4.9.7//NONSGML v1.0//EN
CALSCALE:GREGORIAN
METHOD:PUBLISH
X-WR-CALNAME:Empowered Living
X-ORIGINAL-URL:https://jaynebanful.com
X-WR-CALDESC:Events for Empowered Living
BEGIN:VTIMEZONE
TZID:"UTC"
BEGIN:STANDARD
TZOFFSETFROM:+0000
TZOFFSETTO:+0000
TZNAME:UTC
DTSTART:20260101T000000
END:STANDARD
END:VTIMEZONE
BEGIN:VEVENT
DTSTART;TZID="UTC":20260214T160000
DTEND;TZID="UTC":20260214T180000
DTSTAMP:20260422T185154
CREATED:20260212T090802Z
LAST-MODIFIED:20260212T090846Z
UID:2356-1771084800-1771092000@jaynebanful.com
SUMMARY:Valentine's Day Fireside chat with Dr. Jayne Banful
DESCRIPTION:
URL:https://jaynebanful.com/event/valentines-day-fireside-chat-with-dr-jayne-banful/
LOCATION:Lagos
ATTACH;FMTTYPE=image/jpeg:https://jaynebanful.com/wp-content/uploads/2026/02/PHOTO-2026-02-11-08-21-39.jpg
END:VEVENT
END:VCALENDAR